BEGIN:VCALENDAR
VERSION:2.0
PRODID:-//ChamberMaster//Event Calendar 2.0//EN
METHOD:PUBLISH
X-PUBLISHED-TTL:P3D
REFRESH-INTERVAL:P3D
CALSCALE:GREGORIAN
BEGIN:VEVENT
DTSTART:20230928T130000Z
DTEND:20230928T140000Z
X-MICROSOFT-CDO-ALLDAYEVENT:FALSE
SUMMARY:Education & Mentoring Committee Meeting
DESCRIPTION:Education & Mentoring Committee meets with Muskego High School faculty from 8 to 9 a.m. on the fourth Thursday of each month during the school year.\n\n\n\nAttendees should enter the front visitor entrance and check in with the school office. Please bring a photo ID.
X-ALT-DESC;FMTTYPE=text/html:Education &amp\; Mentoring Committee meets with Muskego High School faculty from 8 to 9 a.m. on the fourth Thursday of each month during the school year.<br>\n<br>\nAttendees should enter the front visitor entrance and check in with the school office. Please bring a photo ID.
LOCATION:Muskego High School\, Conference Room A
UID:e.114.36127
SEQUENCE:3
DTSTAMP:20260426T032142Z
URL:https://business.muskego.org/events/details/education-mentoring-committee-meeting-36127
END:VEVENT

END:VCALENDAR
