BEGIN:VCALENDAR
VERSION:2.0
PRODID:-//ChamberMaster//Event Calendar 2.0//EN
METHOD:PUBLISH
X-PUBLISHED-TTL:P3D
REFRESH-INTERVAL:P3D
CALSCALE:GREGORIAN
BEGIN:VEVENT
DTSTART:20260418T150000Z
DTEND:20260419T030000Z
X-MICROSOFT-CDO-ALLDAYEVENT:FALSE
SUMMARY:Eagle Park Brewing Joint Fest
DESCRIPTION:
X-ALT-DESC;FMTTYPE=text/html:
LOCATION:Eagle Park Brewing Joint Fest 10am - 10pm S64 W15640 Commerce Center Parkway Muskego\, WI 53150
UID:e.114.38119
SEQUENCE:3
DTSTAMP:20260424T201225Z
URL:https://business.muskego.org/events/details/eagle-park-brewing-joint-fest-38119
END:VEVENT

END:VCALENDAR
