BEGIN:VCALENDAR
VERSION:2.0
PRODID:-//ChamberMaster//Event Calendar 2.0//EN
METHOD:PUBLISH
X-PUBLISHED-TTL:P3D
REFRESH-INTERVAL:P3D
CALSCALE:GREGORIAN
BEGIN:VEVENT
DTSTART:20260429T140000Z
DTEND:20260429T153000Z
X-MICROSOFT-CDO-ALLDAYEVENT:FALSE
SUMMARY:Costa Rica & Coffee
DESCRIPTION:Midweek coffee and a little travel talk.\n\n\n\nSince getting back from Costa Rica\, I've had a lot of great questions about what it's really like\, what to expect\, and if it's a good fit for different types of travelers.\n\n\n\nSo instead of trying to answer everyone one by one\, I thought we'd just sit down and talk about it.\n\n\n\nIf you're curious about Costa Rica\, thinking about going someday\, or just want to get out for a bit\, come join me.\n\n\n\n\n\nWednesday\, April 29 at 9:00am\n\nBetter Together Cafe\n\nW137S6360 W Janesville Rd\, Muskego\n\n\n\n\n\nThis is not a presentation and there is no agenda. Just coffee\, conversation\, and real experiences from my recent trip.\n\n\n\nCome ask questions\, listen in\, or just enjoy a relaxed morning.\n\n \n\n\n\nIf you've been needing a reason to get out for coffee\, this is it.
X-ALT-DESC;FMTTYPE=text/html:<div>\n<div><strong>Midweek coffee and a little travel talk.</strong></div>\n</div>\n\n<div>\n<div>Since getting back from Costa Rica\, I&rsquo\;ve had a lot of great questions about what it&rsquo\;s really like\, what to expect\, and if it&rsquo\;s a good fit for different types of travelers.</div>\n</div>\n\n<div>\n<div>So instead of trying to answer everyone one by one\, I thought we&rsquo\;d just sit down and talk about it.</div>\n</div>\n\n<div>\n<div>If you&rsquo\;re curious about Costa Rica\, thinking about going someday\, or just want to get out for a bit\, come join me.</div>\n</div>\n\n<div>\n<div><br />\nWednesday\, April 29 at 9:00am</div>\n\n<div>Better Together Cafe</div>\n\n<div>W137S6360 W Janesville Rd\, Muskego</div>\n</div>\n\n<div>\n<div><br />\nThis is not a presentation and there is no agenda. Just coffee\, conversation\, and real experiences from my recent trip.</div>\n</div>\n\n<div>\n<div>Come ask questions\, listen in\, or just enjoy a relaxed morning.<br />\n&nbsp\;</div>\n</div>\n\n<div>\n<div>If you&rsquo\;ve been needing a reason to get out for coffee\, this is it.</div>\n</div>\n
LOCATION:Better Together Cafe W137S6360 W Janesville Rd\, Muskego
UID:e.114.38541
SEQUENCE:3
DTSTAMP:20260423T004639Z
URL:https://business.muskego.org/events/details/costa-rica-coffee-38541
END:VEVENT

END:VCALENDAR
