BEGIN:VCALENDAR
VERSION:2.0
PRODID:-//ChamberMaster//Event Calendar 2.0//EN
METHOD:PUBLISH
X-PUBLISHED-TTL:P3D
REFRESH-INTERVAL:P3D
CALSCALE:GREGORIAN
BEGIN:VEVENT
DTSTART:20260404T140000Z
DTEND:20260404T170000Z
X-MICROSOFT-CDO-ALLDAYEVENT:FALSE
SUMMARY:Breakfast with the Easter Bunny & Easter Egg Hunt
DESCRIPTION:
X-ALT-DESC;FMTTYPE=text/html:
LOCATION:Saturday\, April 4 2026 Breakfast at Norway Town Hall 9am-11am 6419 Heg Park Road - Wind Lake\, WI) Games\, Fun\, Bounce house\, food drink at Norway Lutheran Church 9am-12pm 6321 Heg Park Road - Wind Lake\, WI Easter Egg Hunt Colonel Heg Memorial Park 1130am (across the street from Norway Lutheran Church) Easter Egg Hunt at Colonel Heg Memorial Park at 11:30am (OVER 5000 EGGS!!)
UID:e.114.38345
SEQUENCE:3
DTSTAMP:20260424T201204Z
URL:https://business.muskego.org/events/details/breakfast-with-the-easter-bunny-easter-egg-hunt-38345
END:VEVENT

END:VCALENDAR
